BEGIN:VCALENDAR
VERSION:2.0
PRODID:-//Tukios.com/
BEGIN:VEVENT
UID:30fb339c-1a7a-4b7a-b2ae-dcf9ef7f5641@www.gluntfuneralhome.com
DTSTAMP:20260422T185517Z
DTSTART:20260515T150000Z
DTEND:20260515T160000Z
SUMMARY:Mass
DESCRIPTION:
URL:https://www.gluntfuneralhome.com/obituaries/james-considine
LOCATION:St. George Roman Catholic Church 5154 Peach Street  Erie PA 
	16509
GEO:42.0784512;-80.0919685
END:VEVENT
END:VCALENDAR